BEGIN:VCALENDAR
VERSION:2.0
PRODID:-//FEDHASA - ECPv6.15.18//NONSGML v1.0//EN
CALSCALE:GREGORIAN
METHOD:PUBLISH
X-WR-CALNAME:FEDHASA
X-ORIGINAL-URL:https://fedhasa.co.za
X-WR-CALDESC:Events for FEDHASA
REFRESH-INTERVAL;VALUE=DURATION:PT1H
X-Robots-Tag:noindex
X-PUBLISHED-TTL:PT1H
BEGIN:VTIMEZONE
TZID:Africa/Johannesburg
BEGIN:STANDARD
TZOFFSETFROM:+0200
TZOFFSETTO:+0200
TZNAME:SAST
DTSTART:20250101T000000
END:STANDARD
END:VTIMEZONE
BEGIN:VEVENT
DTSTART;TZID=Africa/Johannesburg:20260728T080000
DTEND;TZID=Africa/Johannesburg:20260802T170000
DTSTAMP:20260420T093918
CREATED:20260320T131532Z
LAST-MODIFIED:20260320T132527Z
UID:14536-1785225600-1785690000@fedhasa.co.za
SUMMARY:Decorex Joburg
DESCRIPTION:
URL:https://fedhasa.co.za/all-event/decorex-joburg/
LOCATION:Sandton Convention Centre\, 161 Maude Street\, Sandton\, Gauteng\, 2196
CATEGORIES:FEDHASA Events,Industry Events
ATTACH;FMTTYPE=image/png:https://fedhasa.co.za/wp-content/uploads/2026/03/2023-Decorex-Joburg-Trade-Mark.png
END:VEVENT
END:VCALENDAR